BEGIN:VCALENDAR
VERSION:2.0
PRODID:-//Sabine Santin - ECPv5.8.2//NONSGML v1.0//EN
CALSCALE:GREGORIAN
METHOD:PUBLISH
X-WR-CALNAME:Sabine Santin
X-ORIGINAL-URL:https://www.sabine-santin.de
X-WR-CALDESC:Events for Sabine Santin
BEGIN:VTIMEZONE
TZID:Europe/Berlin
BEGIN:DAYLIGHT
TZOFFSETFROM:+0100
TZOFFSETTO:+0200
TZNAME:CEST
DTSTART:20210328T010000
END:DAYLIGHT
BEGIN:STANDARD
TZOFFSETFROM:+0200
TZOFFSETTO:+0100
TZNAME:CET
DTSTART:20211031T010000
END:STANDARD
END:VTIMEZONE
BEGIN:VEVENT
DTSTART;TZID=Europe/Berlin:20210417T140000
DTEND;TZID=Europe/Berlin:20210417T180000
DTSTAMP:20260422T183759
CREATED:20210127T135430Z
LAST-MODIFIED:20210218T144212Z
UID:696-1618668000-1618682400@www.sabine-santin.de
SUMMARY:KRISEN – KATASTROPHE ODER DOCH CHANCE?
DESCRIPTION:Krisensituationen können immer wieder vorkommen – sei es durch Krankheiten\, Verluste\, Arbeitslosigkeit\, Todesfälle\, Corona oder andere Veränderungen der Lebenssituation.\nAus der Resilienzforschung weiß man\, dass manche Menschen (fast) daran zerbrechen und andere widerstandsfähig sind und gestärkt aus Krisen hervorgehen.\nWir beleuchten\, wie stabil das in der Kindheit gebildete Urvertrauen ist\, wie wichtig der eigene Denkstil dabei ist und erstellen die persönliche „Stresslandkarte“. Zahlreiche Übungen zur Achtsamkeit\, zum Umgang mit Emotionen und negativen Denkmustern runden den Nachmittag ab
URL:https://www.sabine-santin.de/event/krisen-katastrophe-oder-doch-chance/
LOCATION:Sabine Santin\, Hohweg 27\, Weissach-Flacht\, Baden-Württemberg\, 71287\, Deutschland
ATTACH;FMTTYPE=image/jpeg:https://www.sabine-santin.de/wp-content/uploads/2021/01/V-Krisen-meistern.jpg
END:VEVENT
END:VCALENDAR